Name | Last modified | Size | Description | |
---|---|---|---|---|
Parent Directory | - | |||
install-out.txt | 13-Apr-2023 00:06 | 1.0K | ||
install-summary.dcf | 13-Apr-2023 00:06 | 275 | ||
buildsrc-out.txt | 13-Apr-2023 00:06 | 891 | ||
buildsrc-summary.dcf | 13-Apr-2023 00:06 | 436 | ||
checksrc-out.txt | 13-Apr-2023 00:06 | 6.8K | ||
checksrc-summary.dcf | 13-Apr-2023 00:06 | 461 | ||
buildbin-out.txt | 13-Apr-2023 00:06 | 1.2K | ||
buildbin-summary.dcf | 13-Apr-2023 00:06 | 548 | ||