Name | Last modified | Size | Description | |
---|---|---|---|---|
Parent Directory | - | |||
buildbin-summary.dcf | 13-Apr-2023 00:05 | 561 | ||
buildbin-out.txt | 13-Apr-2023 00:05 | 1.1K | ||
checksrc-summary.dcf | 13-Apr-2023 00:05 | 483 | ||
checksrc-out.txt | 13-Apr-2023 00:05 | 4.9K | ||
buildsrc-summary.dcf | 13-Apr-2023 00:05 | 482 | ||
buildsrc-out.txt | 13-Apr-2023 00:05 | 805 | ||
install-summary.dcf | 13-Apr-2023 00:05 | 284 | ||
install-out.txt | 13-Apr-2023 00:05 | 1.0K | ||