Name | Last modified | Size | Description | |
---|---|---|---|---|
Parent Directory | - | |||
checksrc-out.txt | 13-Apr-2023 00:05 | 4.9K | ||
install-out.txt | 13-Apr-2023 00:05 | 1.0K | ||
buildsrc-out.txt | 13-Apr-2023 00:05 | 766 | ||
checksrc-summary.dcf | 13-Apr-2023 00:05 | 450 | ||
buildsrc-summary.dcf | 13-Apr-2023 00:05 | 438 | ||
install-summary.dcf | 13-Apr-2023 00:05 | 275 | ||