Name | Last modified | Size | Description | |
---|---|---|---|---|
Parent Directory | - | |||
buildbin-out.txt | 09-Jul-2022 00:58 | 1.2K | ||
buildbin-summary.dcf | 09-Jul-2022 00:58 | 539 | ||
buildsrc-out.txt | 13-Apr-2023 00:05 | 928 | ||
buildsrc-summary.dcf | 13-Apr-2023 00:05 | 370 | ||
checksrc-out.txt | 09-Jul-2022 00:58 | 3.6K | ||
checksrc-summary.dcf | 09-Jul-2022 00:58 | 454 | ||
install-out.txt | 13-Apr-2023 00:05 | 618 | ||
install-summary.dcf | 13-Apr-2023 00:05 | 272 | ||