Name | Last modified | Size | Description | |
---|---|---|---|---|
Parent Directory | - | |||
checksrc-out.txt | 09-Jul-2022 00:56 | 3.4K | ||
buildsrc-out.txt | 13-Apr-2023 00:05 | 876 | ||
install-out.txt | 13-Apr-2023 00:05 | 635 | ||
checksrc-summary.dcf | 09-Jul-2022 00:56 | 428 | ||
buildsrc-summary.dcf | 13-Apr-2023 00:05 | 334 | ||
install-summary.dcf | 13-Apr-2023 00:05 | 263 | ||