Name | Last modified | Size | Description | |
---|---|---|---|---|
Parent Directory | - | |||
checksrc-out.txt | 21-Jul-2022 00:07 | 3.5K | ||
buildbin-out.txt | 21-Jul-2022 00:07 | 1.2K | ||
buildsrc-out.txt | 13-Apr-2023 00:06 | 892 | ||
install-out.txt | 13-Apr-2023 00:06 | 681 | ||
buildbin-summary.dcf | 21-Jul-2022 00:07 | 536 | ||
checksrc-summary.dcf | 21-Jul-2022 00:07 | 448 | ||
buildsrc-summary.dcf | 13-Apr-2023 00:06 | 344 | ||
install-summary.dcf | 13-Apr-2023 00:06 | 273 | ||