Index of /checkResults/3.16/bioc-LATEST/NBSplice/raw-results/kjohnson
Name
Last modified
Size
Description
Parent Directory
-
install-summary.dcf
12-Jul-2022 00:06
273
install-out.txt
12-Jul-2022 00:06
693
buildsrc-summary.dcf
08-Jul-2022 00:11
344
buildsrc-out.txt
08-Jul-2022 00:11
894