Name | Last modified | Size | Description | |
---|---|---|---|---|
Parent Directory | - | |||
install-summary.dcf | 13-Apr-2023 00:05 | 263 | ||
install-out.txt | 13-Apr-2023 00:05 | 1.0K | ||
checksrc-summary.dcf | 13-Apr-2023 00:05 | 422 | ||
checksrc-out.txt | 13-Apr-2023 00:05 | 3.7K | ||
buildsrc-summary.dcf | 13-Apr-2023 00:05 | 424 | ||
buildsrc-out.txt | 13-Apr-2023 00:05 | 1.1K | ||