Name | Last modified | Size | Description | |
---|---|---|---|---|
Parent Directory | - | |||
buildbin-summary.dcf | 13-Apr-2023 00:06 | 524 | ||
buildbin-out.txt | 13-Apr-2023 00:06 | 2.6K | ||
checksrc-summary.dcf | 13-Apr-2023 00:06 | 445 | ||
checksrc-out.txt | 13-Apr-2023 00:06 | 3.3K | ||
buildsrc-summary.dcf | 13-Apr-2023 00:06 | 423 | ||
buildsrc-out.txt | 13-Apr-2023 00:06 | 818 | ||
install-summary.dcf | 13-Apr-2023 00:06 | 267 | ||
install-out.txt | 13-Apr-2023 00:06 | 1.8K | ||