Name | Last modified | Size | Description | |
---|---|---|---|---|
Parent Directory | - | |||
buildbin-out.txt | 08-Jul-2022 00:11 | 2.2K | ||
buildbin-summary.dcf | 08-Jul-2022 00:11 | 444 | ||
buildsrc-out.txt | 08-Jul-2022 00:11 | 818 | ||
buildsrc-summary.dcf | 08-Jul-2022 00:11 | 423 | ||
install-out.txt | 12-Jul-2022 00:06 | 1.8K | ||
install-summary.dcf | 12-Jul-2022 00:06 | 267 | ||