Name | Last modified | Size | Description | |
---|---|---|---|---|
Parent Directory | - | |||
checksrc-out.txt | 13-Apr-2023 00:05 | 3.4K | ||
install-out.txt | 13-Apr-2023 00:05 | 949 | ||
buildsrc-out.txt | 13-Apr-2023 00:05 | 801 | ||
buildsrc-summary.dcf | 13-Apr-2023 00:05 | 413 | ||
checksrc-summary.dcf | 13-Apr-2023 00:05 | 408 | ||
install-summary.dcf | 13-Apr-2023 00:05 | 256 | ||