Name | Last modified | Size | Description | |
---|---|---|---|---|
Parent Directory | - | |||
buildsrc-out.txt | 08-Jul-2022 00:11 | 919 | ||
buildsrc-summary.dcf | 08-Jul-2022 00:11 | 437 | ||
buildbin-out.txt | 08-Jul-2022 00:11 | 3.5K | ||
buildbin-summary.dcf | 08-Jul-2022 00:11 | 467 | ||
install-out.txt | 12-Jul-2022 00:06 | 3.1K | ||
install-summary.dcf | 12-Jul-2022 00:06 | 275 | ||