Name | Last modified | Size | Description | |
---|---|---|---|---|
Parent Directory | - | |||
buildbin-summary.dcf | 13-Apr-2023 00:05 | 576 | ||
buildbin-out.txt | 13-Apr-2023 00:05 | 2.1K | ||
checksrc-summary.dcf | 13-Apr-2023 00:05 | 487 | ||
checksrc-out.txt | 13-Apr-2023 00:05 | 3.7K | ||
buildsrc-summary.dcf | 13-Apr-2023 00:05 | 493 | ||
buildsrc-out.txt | 13-Apr-2023 00:05 | 1.0K | ||
install-summary.dcf | 13-Apr-2023 00:05 | 288 | ||
install-out.txt | 13-Apr-2023 00:05 | 1.9K | ||