Name | Last modified | Size | Description | |
---|---|---|---|---|
Parent Directory | - | |||
install-summary.dcf | 13-Apr-2023 00:05 | 256 | ||
install-out.txt | 13-Apr-2023 00:05 | 949 | ||
checksrc-summary.dcf | 13-Apr-2023 00:05 | 409 | ||
checksrc-out.txt | 13-Apr-2023 00:05 | 5.9K | ||
buildsrc-summary.dcf | 13-Apr-2023 00:05 | 413 | ||
buildsrc-out.txt | 13-Apr-2023 00:05 | 802 | ||