Name | Last modified | Size | Description | |
---|---|---|---|---|
Parent Directory | - | |||
buildbin-out.txt | 13-Apr-2023 00:06 | 1.3K | ||
buildbin-summary.dcf | 13-Apr-2023 00:06 | 518 | ||
buildsrc-out.txt | 13-Apr-2023 00:06 | 966 | ||
buildsrc-summary.dcf | 13-Apr-2023 00:06 | 421 | ||
checksrc-out.txt | 13-Apr-2023 00:06 | 8.3K | ||
checksrc-summary.dcf | 13-Apr-2023 00:06 | 441 | ||
install-out.txt | 13-Apr-2023 00:06 | 1.1K | ||
install-summary.dcf | 13-Apr-2023 00:06 | 265 | ||