Name | Last modified | Size | Description | |
---|---|---|---|---|
Parent Directory | - | |||
checksrc-summary.dcf | 13-Apr-2023 00:05 | 446 | ||
checksrc-out.txt | 13-Apr-2023 00:05 | 4.1K | ||
buildsrc-summary.dcf | 13-Apr-2023 00:05 | 441 | ||
buildsrc-out.txt | 13-Apr-2023 00:05 | 838 | ||
install-summary.dcf | 13-Apr-2023 00:05 | 275 | ||
install-out.txt | 13-Apr-2023 00:05 | 1.0K | ||