Index of /checkResults/3.16/bioc-LATEST/MetaboSignal/raw-results/kjohnson
Name
Last modified
Size
Description
Parent Directory
-
install-summary.dcf
12-Jul-2022 00:06
281
buildsrc-summary.dcf
08-Jul-2022 00:11
352
install-out.txt
12-Jul-2022 00:06
736
buildsrc-out.txt
08-Jul-2022 00:11
943