Name | Last modified | Size | Description | |
---|---|---|---|---|
Parent Directory | - | |||
buildbin-out.txt | 13-Apr-2023 00:06 | 1.2K | ||
buildbin-summary.dcf | 13-Apr-2023 00:06 | 559 | ||
buildsrc-out.txt | 13-Apr-2023 00:06 | 836 | ||
buildsrc-summary.dcf | 13-Apr-2023 00:06 | 443 | ||
checksrc-out.txt | 13-Apr-2023 00:06 | 5.5K | ||
checksrc-summary.dcf | 13-Apr-2023 00:06 | 464 | ||
install-out.txt | 13-Apr-2023 00:06 | 1.0K | ||
install-summary.dcf | 13-Apr-2023 00:06 | 278 | ||