Name | Last modified | Size | Description | |
---|---|---|---|---|
Parent Directory | - | |||
install-summary.dcf | 13-Apr-2023 00:05 | 259 | ||
install-out.txt | 13-Apr-2023 00:05 | 952 | ||
checksrc-summary.dcf | 13-Apr-2023 00:05 | 414 | ||
checksrc-out.txt | 13-Apr-2023 00:05 | 3.3K | ||
buildsrc-summary.dcf | 13-Apr-2023 00:05 | 415 | ||
buildsrc-out.txt | 13-Apr-2023 00:05 | 806 | ||