Index of /checkResults/3.16/bioc-LATEST/MMAPPR2/raw-results/lconway
Name
Last modified
Size
Description
Parent Directory
-
buildsrc-out.txt
13-Apr-2023 00:06
889
buildsrc-summary.dcf
13-Apr-2023 00:06
342
install-out.txt
13-Apr-2023 00:06
679
install-summary.dcf
13-Apr-2023 00:06
271