Name | Last modified | Size | Description | |
---|---|---|---|---|
Parent Directory | - | |||
buildbin-summary.dcf | 13-Apr-2023 00:06 | 512 | ||
buildbin-out.txt | 13-Apr-2023 00:06 | 1.4K | ||
checksrc-summary.dcf | 13-Apr-2023 00:06 | 438 | ||
checksrc-out.txt | 13-Apr-2023 00:06 | 3.6K | ||
buildsrc-summary.dcf | 13-Apr-2023 00:06 | 418 | ||
buildsrc-out.txt | 13-Apr-2023 00:06 | 804 | ||
install-summary.dcf | 13-Apr-2023 00:06 | 263 | ||
install-out.txt | 13-Apr-2023 00:06 | 1.3K | ||