Index of /checkResults/3.16/bioc-LATEST/MACPET/raw-results/nebbiolo2
Name
Last modified
Size
Description
Parent Directory
-
buildsrc-out.txt
13-Apr-2023 00:05
5.0K
buildsrc-summary.dcf
13-Apr-2023 00:05
331
install-out.txt
13-Apr-2023 00:05
4.7K
install-summary.dcf
13-Apr-2023 00:05
260