Index of /checkResults/3.16/bioc-LATEST/MACPET/raw-results/lconway
Name
Last modified
Size
Description
Parent Directory
-
buildsrc-out.txt
13-Apr-2023 00:06
4.1K
buildsrc-summary.dcf
13-Apr-2023 00:06
341
install-out.txt
13-Apr-2023 00:06
3.9K
install-summary.dcf
13-Apr-2023 00:06
270