Name | Last modified | Size | Description | |
---|---|---|---|---|
Parent Directory | - | |||
install-summary.dcf | 12-Jul-2022 00:06 | 269 | ||
install-out.txt | 12-Jul-2022 00:06 | 2.1K | ||
buildsrc-summary.dcf | 08-Jul-2022 00:11 | 427 | ||
buildsrc-out.txt | 08-Jul-2022 00:11 | 909 | ||
buildbin-summary.dcf | 08-Jul-2022 00:11 | 449 | ||
buildbin-out.txt | 08-Jul-2022 00:11 | 2.5K | ||