Name | Last modified | Size | Description | |
---|---|---|---|---|
Parent Directory | - | |||
install-summary.dcf | 13-Apr-2023 00:06 | 261 | ||
buildsrc-summary.dcf | 13-Apr-2023 00:06 | 413 | ||
checksrc-summary.dcf | 13-Apr-2023 00:06 | 427 | ||
buildbin-summary.dcf | 13-Apr-2023 00:06 | 505 | ||
buildsrc-out.txt | 13-Apr-2023 00:06 | 863 | ||
install-out.txt | 13-Apr-2023 00:06 | 968 | ||
buildbin-out.txt | 13-Apr-2023 00:06 | 1.1K | ||
checksrc-out.txt | 13-Apr-2023 00:06 | 3.0K | ||