Index of /checkResults/3.16/bioc-LATEST/IsoformSwitchAnalyzeR/raw-results/kjohnson
Name
Last modified
Size
Description
Parent Directory
-
buildsrc-out.txt
08-Jul-2022 00:11
1.0K
install-out.txt
12-Jul-2022 00:06
773
buildsrc-summary.dcf
08-Jul-2022 00:11
370
install-summary.dcf
12-Jul-2022 00:06
299