Index of /checkResults/3.16/bioc-LATEST/IsoGeneGUI/raw-results/palomino4
Name
Last modified
Size
Description
Parent Directory
-
buildsrc-out.txt
13-Apr-2023 00:05
941
buildsrc-summary.dcf
13-Apr-2023 00:05
376
install-out.txt
13-Apr-2023 00:05
624
install-summary.dcf
13-Apr-2023 00:05
276