Index of /checkResults/3.16/bioc-LATEST/IsoGeneGUI/raw-results/lconway
Name
Last modified
Size
Description
Parent Directory
-
buildsrc-out.txt
13-Apr-2023 00:06
902
buildsrc-summary.dcf
13-Apr-2023 00:06
348
install-out.txt
13-Apr-2023 00:06
687
install-summary.dcf
13-Apr-2023 00:06
277