Index of /checkResults/3.16/bioc-LATEST/InPAS/raw-results/kjohnson
Name
Last modified
Size
Description
Parent Directory
-
buildsrc-out.txt
08-Jul-2022 00:11
966
install-out.txt
12-Jul-2022 00:06
751
buildsrc-summary.dcf
08-Jul-2022 00:11
337
install-summary.dcf
12-Jul-2022 00:06
266