Name | Last modified | Size | Description | |
---|---|---|---|---|
Parent Directory | - | |||
install-summary.dcf | 13-Apr-2023 00:05 | 277 | ||
install-out.txt | 13-Apr-2023 00:05 | 1.7M | ||
buildsrc-out.txt | 13-Apr-2023 00:05 | 1.0K | ||
buildsrc-summary.dcf | 13-Apr-2023 00:05 | 469 | ||
checksrc-out.txt | 13-Apr-2023 00:05 | 4.6K | ||
checksrc-summary.dcf | 13-Apr-2023 00:05 | 464 | ||
buildbin-summary.dcf | 13-Apr-2023 00:05 | 540 | ||
buildbin-out.txt | 13-Apr-2023 00:05 | 1.7M | ||