Name | Last modified | Size | Description | |
---|---|---|---|---|
Parent Directory | - | |||
buildsrc-out.txt | 08-Jul-2022 00:11 | 832 | ||
buildsrc-summary.dcf | 08-Jul-2022 00:11 | 439 | ||
buildbin-out.txt | 08-Jul-2022 00:11 | 1.2K | ||
buildbin-summary.dcf | 08-Jul-2022 00:11 | 552 | ||
install-out.txt | 12-Jul-2022 00:06 | 1.0K | ||
install-summary.dcf | 12-Jul-2022 00:06 | 277 | ||