Name | Last modified | Size | Description | |
---|---|---|---|---|
Parent Directory | - | |||
buildbin-out.txt | 08-Jul-2022 00:11 | 1.3K | ||
buildbin-summary.dcf | 08-Jul-2022 00:11 | 656 | ||
buildsrc-out.txt | 08-Jul-2022 00:11 | 900 | ||
buildsrc-summary.dcf | 08-Jul-2022 00:11 | 490 | ||
install-out.txt | 12-Jul-2022 00:06 | 1.1K | ||
install-summary.dcf | 12-Jul-2022 00:06 | 311 | ||