Name | Last modified | Size | Description | |
---|---|---|---|---|
Parent Directory | - | |||
buildbin-out.txt | 13-Apr-2023 00:05 | 2.0K | ||
buildbin-summary.dcf | 13-Apr-2023 00:05 | 524 | ||
buildsrc-out.txt | 13-Apr-2023 00:05 | 880 | ||
buildsrc-summary.dcf | 13-Apr-2023 00:05 | 459 | ||
checksrc-out.txt | 13-Apr-2023 00:05 | 4.5K | ||
checksrc-summary.dcf | 13-Apr-2023 00:05 | 453 | ||
install-out.txt | 13-Apr-2023 00:05 | 1.8K | ||
install-summary.dcf | 13-Apr-2023 00:05 | 271 | ||