Name | Last modified | Size | Description | |
---|---|---|---|---|
Parent Directory | - | |||
buildbin-out.txt | 13-Apr-2023 00:05 | 5.2K | ||
buildbin-summary.dcf | 13-Apr-2023 00:05 | 503 | ||
buildsrc-out.txt | 13-Apr-2023 00:05 | 861 | ||
buildsrc-summary.dcf | 13-Apr-2023 00:05 | 444 | ||
checksrc-out.txt | 13-Apr-2023 00:05 | 4.2K | ||
checksrc-summary.dcf | 13-Apr-2023 00:05 | 438 | ||
install-out.txt | 13-Apr-2023 00:05 | 5.0K | ||
install-summary.dcf | 13-Apr-2023 00:05 | 264 | ||