Name | Last modified | Size | Description | |
---|---|---|---|---|
Parent Directory | - | |||
install-out.txt | 13-Apr-2023 00:05 | 6.1K | ||
install-summary.dcf | 13-Apr-2023 00:05 | 263 | ||
buildsrc-out.txt | 13-Apr-2023 00:05 | 757 | ||
buildsrc-summary.dcf | 13-Apr-2023 00:05 | 422 | ||
checksrc-out.txt | 13-Apr-2023 00:05 | 4.7K | ||
checksrc-summary.dcf | 13-Apr-2023 00:05 | 422 | ||