Index of /checkResults/3.16/bioc-LATEST/GreyListChIP/raw-results/kjohnson
Name
Last modified
Size
Description
Parent Directory
-
install-summary.dcf
12-Jul-2022 00:06
281
install-out.txt
12-Jul-2022 00:06
731
buildsrc-summary.dcf
08-Jul-2022 00:11
352
buildsrc-out.txt
08-Jul-2022 00:11
938