Index of /checkResults/3.16/bioc-LATEST/GUIDEseq/raw-results/kjohnson
Name
Last modified
Size
Description
Parent Directory
-
buildsrc-out.txt
08-Jul-2022 00:11
960
buildsrc-summary.dcf
08-Jul-2022 00:11
344
install-out.txt
12-Jul-2022 00:06
761
install-summary.dcf
12-Jul-2022 00:06
273