Name | Last modified | Size | Description | |
---|---|---|---|---|
Parent Directory | - | |||
install-summary.dcf | 13-Apr-2023 00:05 | 264 | ||
install-out.txt | 13-Apr-2023 00:05 | 2.6K | ||
checksrc-summary.dcf | 13-Apr-2023 00:05 | 445 | ||
checksrc-out.txt | 13-Apr-2023 00:05 | 8.3K | ||
buildsrc-summary.dcf | 13-Apr-2023 00:05 | 444 | ||
buildsrc-out.txt | 13-Apr-2023 00:05 | 921 | ||
buildbin-summary.dcf | 13-Apr-2023 00:05 | 503 | ||
buildbin-out.txt | 13-Apr-2023 00:05 | 2.8K | ||