Index of /checkResults/3.16/bioc-LATEST/GSEAlm/raw-results/kjohnson
Name
Last modified
Size
Description
Parent Directory
-
install-summary.dcf
12-Jul-2022 00:06
266
install-out.txt
12-Jul-2022 00:06
1.0K
buildsrc-summary.dcf
08-Jul-2022 00:11
340
buildsrc-out.txt
08-Jul-2022 00:11
2.1K