Name | Last modified | Size | Description | |
---|---|---|---|---|
Parent Directory | - | |||
install-summary.dcf | 13-Apr-2023 00:05 | 284 | ||
checksrc-summary.dcf | 13-Apr-2023 00:05 | 479 | ||
buildsrc-summary.dcf | 13-Apr-2023 00:05 | 483 | ||
buildbin-summary.dcf | 13-Apr-2023 00:05 | 563 | ||
install-out.txt | 13-Apr-2023 00:05 | 1.0K | ||
buildbin-out.txt | 13-Apr-2023 00:05 | 1.1K | ||
buildsrc-out.txt | 13-Apr-2023 00:05 | 1.4K | ||
checksrc-out.txt | 13-Apr-2023 00:05 | 3.4K | ||