Name | Last modified | Size | Description | |
---|---|---|---|---|
Parent Directory | - | |||
buildbin-out.txt | 13-Apr-2023 00:05 | 13K | ||
buildbin-summary.dcf | 13-Apr-2023 00:05 | 516 | ||
buildsrc-out.txt | 13-Apr-2023 00:05 | 931 | ||
buildsrc-summary.dcf | 13-Apr-2023 00:05 | 451 | ||
checksrc-out.txt | 13-Apr-2023 00:05 | 7.1K | ||
checksrc-summary.dcf | 13-Apr-2023 00:05 | 447 | ||
install-out.txt | 13-Apr-2023 00:05 | 13K | ||
install-summary.dcf | 13-Apr-2023 00:05 | 269 | ||