Name | Last modified | Size | Description | |
---|---|---|---|---|
Parent Directory | - | |||
buildbin-out.txt | 08-Jul-2022 00:11 | 2.1K | ||
buildbin-summary.dcf | 08-Jul-2022 00:11 | 427 | ||
buildsrc-out.txt | 08-Jul-2022 00:11 | 869 | ||
buildsrc-summary.dcf | 08-Jul-2022 00:11 | 414 | ||
install-out.txt | 12-Jul-2022 00:06 | 1.8K | ||
install-summary.dcf | 12-Jul-2022 00:06 | 260 | ||