Name | Last modified | Size | Description | |
---|---|---|---|---|
Parent Directory | - | |||
install-summary.dcf | 13-Apr-2023 00:06 | 271 | ||
install-out.txt | 13-Apr-2023 00:06 | 1.0K | ||
buildsrc-out.txt | 13-Apr-2023 00:06 | 860 | ||
buildsrc-summary.dcf | 13-Apr-2023 00:06 | 431 | ||
checksrc-summary.dcf | 13-Apr-2023 00:06 | 447 | ||
checksrc-out.txt | 13-Apr-2023 00:06 | 3.2K | ||
buildbin-summary.dcf | 13-Apr-2023 00:06 | 536 | ||
buildbin-out.txt | 13-Apr-2023 00:06 | 1.2K | ||