Name | Last modified | Size | Description | |
---|---|---|---|---|
Parent Directory | - | |||
buildbin-summary.dcf | 13-Apr-2023 00:06 | 530 | ||
buildbin-out.txt | 13-Apr-2023 00:06 | 2.7K | ||
checksrc-summary.dcf | 13-Apr-2023 00:06 | 444 | ||
checksrc-out.txt | 13-Apr-2023 00:06 | 3.7K | ||
buildsrc-summary.dcf | 13-Apr-2023 00:06 | 428 | ||
buildsrc-out.txt | 13-Apr-2023 00:06 | 1.1K | ||
install-summary.dcf | 13-Apr-2023 00:06 | 269 | ||
install-out.txt | 13-Apr-2023 00:06 | 1.9K | ||