Name | Last modified | Size | Description | |
---|---|---|---|---|
Parent Directory | - | |||
buildbin-out.txt | 13-Apr-2023 00:06 | 2.3K | ||
buildbin-summary.dcf | 13-Apr-2023 00:06 | 579 | ||
buildsrc-out.txt | 13-Apr-2023 00:06 | 891 | ||
buildsrc-summary.dcf | 13-Apr-2023 00:06 | 452 | ||
checksrc-out.txt | 13-Apr-2023 00:06 | 3.1K | ||
checksrc-summary.dcf | 13-Apr-2023 00:06 | 478 | ||
install-out.txt | 13-Apr-2023 00:06 | 2.0K | ||
install-summary.dcf | 13-Apr-2023 00:06 | 286 | ||