Index of /checkResults/3.16/bioc-LATEST/EpiMix/raw-results/palomino4
Name
Last modified
Size
Description
Parent Directory
-
install-out.txt
13-Apr-2023 00:05
959
install-summary.dcf
13-Apr-2023 00:05
265
buildsrc-out.txt
13-Apr-2023 00:05
1.4K
buildsrc-summary.dcf
13-Apr-2023 00:05
365