Index of /checkResults/3.16/bioc-LATEST/EpiMix/raw-results/kjohnson
Name
Last modified
Size
Description
Parent Directory
-
install-summary.dcf
12-Jul-2022 00:06
270
install-out.txt
12-Jul-2022 00:06
698