Name | Last modified | Size | Description | |
---|---|---|---|---|
Parent Directory | - | |||
buildbin-out.txt | 13-Apr-2023 00:05 | 1.2K | ||
checksrc-summary.dcf | 13-Apr-2023 00:05 | 471 | ||
checksrc-out.txt | 13-Apr-2023 00:05 | 7.3K | ||
buildbin-summary.dcf | 13-Apr-2023 00:05 | 551 | ||
buildsrc-summary.dcf | 13-Apr-2023 00:05 | 476 | ||
buildsrc-out.txt | 13-Apr-2023 00:05 | 869 | ||
install-summary.dcf | 13-Apr-2023 00:05 | 280 | ||
install-out.txt | 13-Apr-2023 00:05 | 1.0K | ||