Name | Last modified | Size | Description | |
---|---|---|---|---|
Parent Directory | - | |||
install-summary.dcf | 13-Apr-2023 00:05 | 260 | ||
install-out.txt | 13-Apr-2023 00:05 | 7.6K | ||
checksrc-summary.dcf | 13-Apr-2023 00:05 | 416 | ||
checksrc-out.txt | 13-Apr-2023 00:05 | 4.8K | ||
buildsrc-summary.dcf | 13-Apr-2023 00:05 | 419 | ||
buildsrc-out.txt | 13-Apr-2023 00:05 | 902 | ||