Name | Last modified | Size | Description | |
---|---|---|---|---|
Parent Directory | - | |||
buildbin-out.txt | 13-Apr-2023 00:06 | 4.3K | ||
buildbin-summary.dcf | 13-Apr-2023 00:06 | 593 | ||
buildsrc-out.txt | 13-Apr-2023 00:06 | 889 | ||
buildsrc-summary.dcf | 13-Apr-2023 00:06 | 458 | ||
checksrc-out.txt | 13-Apr-2023 00:06 | 3.3K | ||
checksrc-summary.dcf | 13-Apr-2023 00:06 | 486 | ||
install-out.txt | 13-Apr-2023 00:06 | 3.3K | ||
install-summary.dcf | 13-Apr-2023 00:06 | 290 | ||